BEGIN:VCALENDAR
VERSION:2.0
PRODID:-//Kult 22 kulturális programgyűjtő - ECPv6.15.18//NONSGML v1.0//EN
CALSCALE:GREGORIAN
METHOD:PUBLISH
X-WR-CALNAME:Kult 22 kulturális programgyűjtő
X-ORIGINAL-URL:https://kult22.hu
X-WR-CALDESC:Események Kult 22 kulturális programgyűjtő
REFRESH-INTERVAL;VALUE=DURATION:PT1H
X-Robots-Tag:noindex
X-PUBLISHED-TTL:PT1H
BEGIN:VTIMEZONE
TZID:Europe/Budapest
BEGIN:DAYLIGHT
TZOFFSETFROM:+0100
TZOFFSETTO:+0200
TZNAME:CEST
DTSTART:20250330T010000
END:DAYLIGHT
BEGIN:STANDARD
TZOFFSETFROM:+0200
TZOFFSETTO:+0100
TZNAME:CET
DTSTART:20251026T010000
END:STANDARD
BEGIN:DAYLIGHT
TZOFFSETFROM:+0100
TZOFFSETTO:+0200
TZNAME:CEST
DTSTART:20260329T010000
END:DAYLIGHT
BEGIN:STANDARD
TZOFFSETFROM:+0200
TZOFFSETTO:+0100
TZNAME:CET
DTSTART:20261025T010000
END:STANDARD
BEGIN:DAYLIGHT
TZOFFSETFROM:+0100
TZOFFSETTO:+0200
TZNAME:CEST
DTSTART:20270328T010000
END:DAYLIGHT
BEGIN:STANDARD
TZOFFSETFROM:+0200
TZOFFSETTO:+0100
TZNAME:CET
DTSTART:20271031T010000
END:STANDARD
END:VTIMEZONE
BEGIN:VEVENT
DTSTART;TZID=Europe/Budapest:20260421T190000
DTEND;TZID=Europe/Budapest:20260421T203000
DTSTAMP:20260420T184544
CREATED:20260305T132052Z
LAST-MODIFIED:20260323T081155Z
UID:9182-1776798000-1776803400@kult22.hu
SUMMARY:Szeressük egymást\, gyerekek! – Fesztbaum Béla Seress Rezső estje
DESCRIPTION:Szeressük egymást\, gyerekek! – Fesztbaum Béla Seress Rezső estje \nA Vígszínház Jászai Mari-díjas színművésze Budafokra érkezik. \nFüstös\, pesti kiskocsma\, a sarokban öreg pianínó\, mellette egy legendás előadó. Az est főszereplője a különös sorsú magyar világsláger\, a Szomorú vasárnap szerzője\, Seress Rezső. Dalainak és a korszak anekdotáinak segítségével megidézzük ezt a jellegzetesen pesti alakot\, aki szinte soha nem hagyta el szeretett hetedik kerületét\, és évtizedekig volt meghatározó szereplője a pesti éjszakának. \nFél kézzel pötyögve\, rekedtes hangján adta elő számait\, melyek egytől egyig igazi slágerré váltak: Fizetek\, főúr\, Csak átutazó vagyok itt a Földön\, Szeressük egymást\, gyerekek\, Hiába van palotád Budán. Vendégkönyvébe dedikált az egész 20. század Toscaninitől\, Louis Armstrongig. Otto Klemperer\, a világhírű karmester legendás mondata Seressről: „Nem muzsikus – csak zseni.” \nJegyek kaphatóak a Jegy.hu -n és a helyszínen. \nVárunk mindenkit sok szeretettel a Klauzál Házban április 21-én kedden 19:00-kor. \nMegosztom:
URL:https://kult22.hu/esemeny/szeressuk-egymast-gyerekek-fesztbaum-bela-seress-rezso-estje/
LOCATION:Klauzál Gábor Művelődési Központ\, Nagytétényi út 31-33\, Budapest\, 1222\, Hungary
CATEGORIES:Koncert
ATTACH;FMTTYPE=image/png:https://kult22.hu/wp-content/uploads/2026/03/fesztbaum.png
END:VEVENT
END:VCALENDAR