BEGIN:VCALENDAR
VERSION:2.0
PRODID:-//Kult 22 kulturális programgyűjtő - ECPv6.15.18//NONSGML v1.0//EN
CALSCALE:GREGORIAN
METHOD:PUBLISH
X-WR-CALNAME:Kult 22 kulturális programgyűjtő
X-ORIGINAL-URL:https://kult22.hu
X-WR-CALDESC:Események Kult 22 kulturális programgyűjtő
REFRESH-INTERVAL;VALUE=DURATION:PT1H
X-Robots-Tag:noindex
X-PUBLISHED-TTL:PT1H
BEGIN:VTIMEZONE
TZID:Europe/Budapest
BEGIN:DAYLIGHT
TZOFFSETFROM:+0100
TZOFFSETTO:+0200
TZNAME:CEST
DTSTART:20250330T010000
END:DAYLIGHT
BEGIN:STANDARD
TZOFFSETFROM:+0200
TZOFFSETTO:+0100
TZNAME:CET
DTSTART:20251026T010000
END:STANDARD
BEGIN:DAYLIGHT
TZOFFSETFROM:+0100
TZOFFSETTO:+0200
TZNAME:CEST
DTSTART:20260329T010000
END:DAYLIGHT
BEGIN:STANDARD
TZOFFSETFROM:+0200
TZOFFSETTO:+0100
TZNAME:CET
DTSTART:20261025T010000
END:STANDARD
BEGIN:DAYLIGHT
TZOFFSETFROM:+0100
TZOFFSETTO:+0200
TZNAME:CEST
DTSTART:20270328T010000
END:DAYLIGHT
BEGIN:STANDARD
TZOFFSETFROM:+0200
TZOFFSETTO:+0100
TZNAME:CET
DTSTART:20271031T010000
END:STANDARD
END:VTIMEZONE
BEGIN:VEVENT
DTSTART;TZID=Europe/Budapest:20260414T100000
DTEND;TZID=Europe/Budapest:20260414T110000
DTSTAMP:20260420T181841
CREATED:20251127T115311Z
LAST-MODIFIED:20251127T115311Z
UID:7824-1776160800-1776164400@kult22.hu
SUMMARY:Manócska színház - Az eltáncolt papucsok
DESCRIPTION:április 14. kedd 10.00\nAz eltáncolt papucsok – zenés mesekoncert\nLóca Együttes előadása\nZenés mese tizenkét királyleányról\, akik minden éjjel elszaggatják a papucsukat. Hol járnak\, mit csinálnak? Eredj a nyomukba és fény derül a titokra!\nA Lóca együttes 2010-ben alakult Kecskeméten. Interaktív előadásaik ismert gyermekdalokra\, népdalokra\, népzenei feldolgozásokra\, mondókákra\, játékokra és saját szerzeményekre épülnek. Dalaikat és történeteiket népi és klasszikus hangszerekkel\, illetve hangkeltő eszközökkel megszólaltatott élő zenei kísérettel adják elő.\nJegyár: 2500 Ft \nMegosztom:
URL:https://kult22.hu/esemeny/manocska-szinhaz-az-eltancolt-papucsok/
LOCATION:Klauzál Gábor Művelődési Központ\, Nagytétényi út 31-33\, Budapest\, 1222\, Hungary
CATEGORIES:Gyerekprogramok
ATTACH;FMTTYPE=image/jpeg:https://kult22.hu/wp-content/uploads/2025/11/Loca-egyuttes-manocska.jpg
END:VEVENT
END:VCALENDAR