BEGIN:VCALENDAR
VERSION:2.0
PRODID:-//Kult 22 kulturális programgyűjtő - ECPv6.15.18//NONSGML v1.0//EN
CALSCALE:GREGORIAN
METHOD:PUBLISH
X-WR-CALNAME:Kult 22 kulturális programgyűjtő
X-ORIGINAL-URL:https://kult22.hu
X-WR-CALDESC:Események Kult 22 kulturális programgyűjtő
REFRESH-INTERVAL;VALUE=DURATION:PT1H
X-Robots-Tag:noindex
X-PUBLISHED-TTL:PT1H
BEGIN:VTIMEZONE
TZID:Europe/Budapest
BEGIN:DAYLIGHT
TZOFFSETFROM:+0100
TZOFFSETTO:+0200
TZNAME:CEST
DTSTART:20250330T010000
END:DAYLIGHT
BEGIN:STANDARD
TZOFFSETFROM:+0200
TZOFFSETTO:+0100
TZNAME:CET
DTSTART:20251026T010000
END:STANDARD
BEGIN:DAYLIGHT
TZOFFSETFROM:+0100
TZOFFSETTO:+0200
TZNAME:CEST
DTSTART:20260329T010000
END:DAYLIGHT
BEGIN:STANDARD
TZOFFSETFROM:+0200
TZOFFSETTO:+0100
TZNAME:CET
DTSTART:20261025T010000
END:STANDARD
BEGIN:DAYLIGHT
TZOFFSETFROM:+0100
TZOFFSETTO:+0200
TZNAME:CEST
DTSTART:20270328T010000
END:DAYLIGHT
BEGIN:STANDARD
TZOFFSETFROM:+0200
TZOFFSETTO:+0100
TZNAME:CET
DTSTART:20271031T010000
END:STANDARD
END:VTIMEZONE
BEGIN:VEVENT
DTSTART;TZID=Europe/Budapest:20260610T161500
DTEND;TZID=Europe/Budapest:20260917T161500
DTSTAMP:20260418T195342
CREATED:20260311T091526Z
LAST-MODIFIED:20260311T091527Z
UID:10011284-1781108100-1789661700@kult22.hu
SUMMARY:Gyermekbalett
DESCRIPTION:Gyermekbalett (4-6 éveseknek)\nSzerda 16.15- 17.15\nPéntek 16.00 – 17.00\nA Supernova Tánciskola csoportjai. Balett és általános tánc alapozó foglalkozás. Magas színvonalú test- és táncművészeti képzés: balett előkészítő gimnasztika\, mozdulatművészet\, modern tánctechnika.\nTanfolyamvezető: Nagy Zomilla táncpedagógus táncművész\nTel.: +36 30 646 9009\nE-mail: zomillamilla.z@gmail.com\nRészvételi díj: 16.000 Ft / hó \nMegosztom:
URL:https://kult22.hu/esemeny/gyermekbalett-3/2026-06-10/
LOCATION:Klauzál Gábor Művelődési Központ\, Nagytétényi út 31-33\, Budapest\, 1222\, Hungary
CATEGORIES:Gyermekeknek,Tanfolyamok
ATTACH;FMTTYPE=image/jpeg:https://kult22.hu/wp-content/uploads/2025/02/kezdo-kreativ-gyerektorna-kreativ-gyerektornajpg.jpg
END:VEVENT
END:VCALENDAR